BEGIN:VCALENDAR
VERSION:2.0
PRODID:-//eventon.com NONSGML v1.0//EN
CALSCALE:GREGORIAN
METHOD:PUBLISH
BEGIN:VEVENT
UID:69e4db99690c0
DTSTAMP:20260419T134145Z
DTSTART:20260425T020000Z
DTEND:20260425T040000Z
LOCATION:
SUMMARY:Pac-Man Dance
DESCRIPTION:Get ready for an unforgettable night of fun at the Arc of Ancho
 rage’s Pac-Man Dance! Inspired by the classic arcade favorite Pac-Man\,  
 this exciting event brings playful energy\,  great music\,  and a welcoming
  atmosphere to the dance floor. Guests are encouraged to dress up in their 
 favorite arcade-inspired outfits and[..]\nhttps://classes-events.thearcofan
 chorage.org/events/pac-man-dance-s2026/
URL:https://classes-events.thearcofanchorage.org/events/pac-man-dance-s2026/
END:VEVENT
END:VCALENDAR